BEGIN:VCALENDAR
VERSION:2.0
PRODID:-//CUPE Local 500 - ECPv6.9.0//NONSGML v1.0//EN
CALSCALE:GREGORIAN
METHOD:PUBLISH
X-WR-CALNAME:CUPE Local 500
X-ORIGINAL-URL:https://cupe500.mb.ca
X-WR-CALDESC:Events for CUPE Local 500
REFRESH-INTERVAL;VALUE=DURATION:PT1H
X-Robots-Tag:noindex
X-PUBLISHED-TTL:PT1H
BEGIN:VTIMEZONE
TZID:America/Winnipeg
BEGIN:DAYLIGHT
TZOFFSETFROM:-0600
TZOFFSETTO:-0500
TZNAME:CDT
DTSTART:20250309T080000
END:DAYLIGHT
BEGIN:STANDARD
TZOFFSETFROM:-0500
TZOFFSETTO:-0600
TZNAME:CST
DTSTART:20251102T070000
END:STANDARD
END:VTIMEZONE
BEGIN:VEVENT
DTSTART;VALUE=DATE:20250930
DTEND;VALUE=DATE:20251001
DTSTAMP:20260421T034520
CREATED:20250929T160444Z
LAST-MODIFIED:20250929T160507Z
UID:1202-1759190400-1759276799@cupe500.mb.ca
SUMMARY:National Day For Truth and Reconciliation
DESCRIPTION:Find information and events here.
URL:https://cupe500.mb.ca/event/national-day-for-truth-and-reconciliation/
END:VEVENT
END:VCALENDAR