BEGIN:VCALENDAR
VERSION:2.0
PRODID:-//CUPE Local 500 - ECPv6.9.0//NONSGML v1.0//EN
CALSCALE:GREGORIAN
METHOD:PUBLISH
X-ORIGINAL-URL:https://cupe500.mb.ca
X-WR-CALDESC:Events for CUPE Local 500
REFRESH-INTERVAL;VALUE=DURATION:PT1H
X-Robots-Tag:noindex
X-PUBLISHED-TTL:PT1H
BEGIN:VTIMEZONE
TZID:America/Winnipeg
BEGIN:DAYLIGHT
TZOFFSETFROM:-0600
TZOFFSETTO:-0500
TZNAME:CDT
DTSTART:20250309T080000
END:DAYLIGHT
BEGIN:STANDARD
TZOFFSETFROM:-0500
TZOFFSETTO:-0600
TZNAME:CST
DTSTART:20251102T070000
END:STANDARD
END:VTIMEZONE
BEGIN:VEVENT
DTSTART;TZID=America/Winnipeg:20251117T173000
DTEND;TZID=America/Winnipeg:20251117T193000
DTSTAMP:20260421T034545
CREATED:20250929T161258Z
LAST-MODIFIED:20250929T161258Z
UID:1224-1763400600-1763407800@cupe500.mb.ca
SUMMARY:Civic Services Unit Meeting
DESCRIPTION:
URL:https://cupe500.mb.ca/event/civic-services-unit-meeting-5/
LOCATION:room 103\, 275 Broadway
END:VEVENT
BEGIN:VEVENT
DTSTART;TZID=America/Winnipeg:20251117T180000
DTEND;TZID=America/Winnipeg:20251117T200000
DTSTAMP:20260421T034545
CREATED:20250929T161341Z
LAST-MODIFIED:20250929T161341Z
UID:1226-1763402400-1763409600@cupe500.mb.ca
SUMMARY:Community Services Unit Meeting
DESCRIPTION:
URL:https://cupe500.mb.ca/event/community-services-unit-meeting-5/
LOCATION:room 2B
END:VEVENT
BEGIN:VEVENT
DTSTART;TZID=America/Winnipeg:20251117T180000
DTEND;TZID=America/Winnipeg:20251117T200000
DTSTAMP:20260421T034545
CREATED:20250929T161411Z
LAST-MODIFIED:20250929T161411Z
UID:1228-1763402400-1763409600@cupe500.mb.ca
SUMMARY:Public Works Unit Meeting
DESCRIPTION:
URL:https://cupe500.mb.ca/event/public-works-unit-meeting-7/
LOCATION:room 107\, 275 Broadway
END:VEVENT
END:VCALENDAR